BEGIN:VCALENDAR
METHOD:REQUEST
PRODID:-//events.orgNONSGML ical.net 4.0//EN
VERSION:2.0
BEGIN:VEVENT
DTEND;VALUE=DATE:20260624
DTSTAMP:20260421T132704Z
DTSTART;VALUE=DATE:20260624
LOCATION:Coors Field\, Denver
ORGANIZER;CN=:mailto:events@events.org
SEQUENCE:0
SUMMARY:Colorado Rockies vs. Boston Red Sox
UID:42d9af73-aab1-4dd9-9d63-670d2e8839ae
URL:https://events.org/e/Colorado-Rockies-vs-Boston-Red-Sox/I748U3DD
BEGIN:VALARM
ACTION:DISPLAY
SUMMARY:Reminder
TRIGGER:-P1D
END:VALARM
END:VEVENT
END:VCALENDAR
