BEGIN:VCALENDAR
METHOD:REQUEST
PRODID:-//events.orgNONSGML ical.net 4.0//EN
VERSION:2.0
BEGIN:VEVENT
DTEND;VALUE=DATE:20260421
DTSTAMP:20260421T082524Z
DTSTART;VALUE=DATE:20260421
LOCATION:Lucinda's\, New York
ORGANIZER;CN=:mailto:events@events.org
SEQUENCE:0
SUMMARY:Showgirl Saloon
UID:1a324dd6-4bd9-45c0-a378-57a0fb12b560
URL:https://events.org/e/Showgirl-Saloon/RB7RJANN
BEGIN:VALARM
ACTION:DISPLAY
SUMMARY:Reminder
TRIGGER:-P1D
END:VALARM
END:VEVENT
END:VCALENDAR
