BEGIN:VCALENDAR
METHOD:REQUEST
PRODID:-//events.orgNONSGML ical.net 4.0//EN
VERSION:2.0
BEGIN:VEVENT
DTEND;VALUE=DATE:20260621
DTSTAMP:20260421T102034Z
DTSTART;VALUE=DATE:20260621
LOCATION:Valley Bar\, Phoenix
ORGANIZER;CN=:mailto:events@events.org
SEQUENCE:0
SUMMARY:LADIES NIGHT WITH DJ POOTIECAT! // R&B / HIP HOP / BAILE / CLUB
UID:056369e6-e669-4063-97b9-0bcd0ff41ca1
URL:https://events.org/e/LADIES-NIGHT-WITH-DJ-POOTIECAT-RB-HIP-HOP-BAI/52Y
 YCQJO
BEGIN:VALARM
ACTION:DISPLAY
SUMMARY:Reminder
TRIGGER:-P1D
END:VALARM
END:VEVENT
END:VCALENDAR
