BEGIN:VCALENDAR
METHOD:REQUEST
PRODID:-//events.orgNONSGML ical.net 4.0//EN
VERSION:2.0
BEGIN:VEVENT
DTEND;VALUE=DATE:20260515
DTSTAMP:20260419T143235Z
DTSTART;VALUE=DATE:20260515
LOCATION:Taper Auditorium\, Seattle
ORGANIZER;CN=:mailto:events@events.org
SEQUENCE:0
SUMMARY:The Music of Jane Austen with the Seattle Symphony
UID:fc67bf05-5e13-44eb-9fa9-e246b2aa775a
URL:https://events.org/e/The-Music-of-Jane-Austen-with-the-Seattle-Symphon
 y/TVTXK896
BEGIN:VALARM
ACTION:DISPLAY
SUMMARY:Reminder
TRIGGER:-P1D
END:VALARM
END:VEVENT
END:VCALENDAR
