BEGIN:VCALENDAR
METHOD:REQUEST
PRODID:-//events.orgNONSGML ical.net 4.0//EN
VERSION:2.0
BEGIN:VEVENT
DTEND;VALUE=DATE:20260617
DTSTAMP:20260421T095229Z
DTSTART;VALUE=DATE:20260617
LOCATION:TD Pavilion at Highmark Mann\, Philadelphia
ORGANIZER;CN=:mailto:events@events.org
SEQUENCE:0
SUMMARY:A Hundred Years On with The Philadelphia Orchestra and The Crossing
UID:52942878-8ebe-4626-8d49-5b325a40260b
URL:https://events.org/e/A-Hundred-Years-On-with-The-Philadelphia-Orch/WD2
 IMPLR
BEGIN:VALARM
ACTION:DISPLAY
SUMMARY:Reminder
TRIGGER:-P1D
END:VALARM
END:VEVENT
END:VCALENDAR
