BEGIN:VCALENDAR
METHOD:REQUEST
PRODID:-//events.orgNONSGML ical.net 4.0//EN
VERSION:2.0
BEGIN:VEVENT
DTEND;VALUE=DATE:20260926
DTSTAMP:20260424T092220Z
DTSTART;VALUE=DATE:20260926
LOCATION:Improv Comedy Club- DC\, Washington
ORGANIZER;CN=:mailto:events@events.org
SEQUENCE:0
SUMMARY:Dave Attell
UID:20f11082-f4e7-45a7-a3bf-7f18e92f8387
URL:https://events.org/e/Dave-Attell/DFOK46P7
BEGIN:VALARM
ACTION:DISPLAY
SUMMARY:Reminder
TRIGGER:-P1D
END:VALARM
END:VEVENT
END:VCALENDAR
