BEGIN:VCALENDAR
METHOD:REQUEST
PRODID:-//events.orgNONSGML ical.net 4.0//EN
VERSION:2.0
BEGIN:VEVENT
DTEND;VALUE=DATE:20260915
DTSTAMP:20260422T090109Z
DTSTART;VALUE=DATE:20260915
LOCATION:Green Room\, Minneapolis
ORGANIZER;CN=:mailto:events@events.org
SEQUENCE:0
SUMMARY:Emarosa - High Horse Heaven Tour
UID:c744371c-98e4-4216-aa1c-1aa7de14ff66
URL:https://events.org/e/Emarosa---High-Horse-Heaven-Tour/XDPLOHID
BEGIN:VALARM
ACTION:DISPLAY
SUMMARY:Reminder
TRIGGER:-P1D
END:VALARM
END:VEVENT
END:VCALENDAR
