BEGIN:VCALENDAR
METHOD:REQUEST
PRODID:-//events.orgNONSGML ical.net 4.0//EN
VERSION:2.0
BEGIN:VEVENT
DTEND;VALUE=DATE:20260707
DTSTAMP:20260421T165937Z
DTSTART;VALUE=DATE:20260707
LOCATION:Citizens House of Blues Boston\, Boston
ORGANIZER;CN=:mailto:events@events.org
SEQUENCE:0
SUMMARY:idobi Radio Summer School w/ Honey Revenge & more
UID:66ba41d7-f2bd-4b8a-b8c6-9d2577df2b89
URL:https://events.org/e/idobi-Radio-Summer-School-w-Honey-Revenge-more/EL
 7OV3MA
BEGIN:VALARM
ACTION:DISPLAY
SUMMARY:Reminder
TRIGGER:-P1D
END:VALARM
END:VEVENT
END:VCALENDAR
