BEGIN:VCALENDAR
METHOD:REQUEST
PRODID:-//events.orgNONSGML ical.net 4.0//EN
VERSION:2.0
BEGIN:VEVENT
DTEND;VALUE=DATE:20260613
DTSTAMP:20260421T103936Z
DTSTART;VALUE=DATE:20260613
LOCATION:Infinity Park\, Denver
ORGANIZER;CN=:mailto:events@events.org
SEQUENCE:0
SUMMARY:Denver Onyx vs Boston Banshees
UID:1573646d-976b-4b4c-86b0-33cfce926dfd
URL:https://events.org/e/Denver-Onyx-vs-Boston-Banshees/P7W2TDWC
BEGIN:VALARM
ACTION:DISPLAY
SUMMARY:Reminder
TRIGGER:-P1D
END:VALARM
END:VEVENT
END:VCALENDAR
