BEGIN:VCALENDAR
METHOD:REQUEST
PRODID:-//events.orgNONSGML ical.net 4.0//EN
VERSION:2.0
BEGIN:VEVENT
DTEND;VALUE=DATE:20260625
DTSTAMP:20260422T090238Z
DTSTART;VALUE=DATE:20260625
LOCATION:Climate Pledge Arena\, Seattle
ORGANIZER;CN=:mailto:events@events.org
SEQUENCE:0
SUMMARY:Seattle Storm vs. New York Liberty
UID:4a0774da-f907-4e1a-9009-37152c9c2859
URL:https://events.org/e/Seattle-Storm-vs-New-York-Liberty/HA6FDJGS
BEGIN:VALARM
ACTION:DISPLAY
SUMMARY:Reminder
TRIGGER:-P1D
END:VALARM
END:VEVENT
END:VCALENDAR
