BEGIN:VCALENDAR
METHOD:REQUEST
PRODID:-//events.orgNONSGML ical.net 4.0//EN
VERSION:2.0
BEGIN:VEVENT
DTEND;VALUE=DATE:20260613
DTSTAMP:20260424T092220Z
DTSTART;VALUE=DATE:20260613
LOCATION:Echostage\, Washington
ORGANIZER;CN=:mailto:events@events.org
SEQUENCE:0
SUMMARY:DNBNL w/  Bou\, Delta Heavy\, Kanine\, Fox Stevenson [In the Round]
UID:4ad0d1a3-26b7-48f7-8c1f-dbbf87dcc159
URL:https://events.org/e/DNBNL-w-Bou-Delta-Heavy-Kanine-Fox-Stevenson/N95B
 2IOQ
BEGIN:VALARM
ACTION:DISPLAY
SUMMARY:Reminder
TRIGGER:-P1D
END:VALARM
END:VEVENT
END:VCALENDAR
