BEGIN:VCALENDAR
METHOD:REQUEST
PRODID:-//events.orgNONSGML ical.net 4.0//EN
VERSION:2.0
BEGIN:VEVENT
DTEND;VALUE=DATE:20260517
DTSTAMP:20260424T080545Z
DTSTART;VALUE=DATE:20260517
LOCATION:Underground Arts\, Philadelphia
ORGANIZER;CN=:mailto:events@events.org
SEQUENCE:0
SUMMARY:Failure (21+ Event)
UID:cd5b81a2-eb4c-4a04-b8ff-1ce8577dde78
URL:https://events.org/e/Failure-21-Event/R2HGQIVJ
BEGIN:VALARM
ACTION:DISPLAY
SUMMARY:Reminder
TRIGGER:-P1D
END:VALARM
END:VEVENT
END:VCALENDAR
