BEGIN:VCALENDAR
METHOD:REQUEST
PRODID:-//events.orgNONSGML ical.net 4.0//EN
VERSION:2.0
BEGIN:VEVENT
DTEND;VALUE=DATE:20260503
DTSTAMP:20260419T091759Z
DTSTART;VALUE=DATE:20260503
LOCATION:Reggies Bananna's Shack \, Chicago
ORGANIZER;CN=:mailto:events@events.org
SEQUENCE:0
SUMMARY:Herb Walker Celebration of Life
UID:67b33dc7-0701-45bf-a21c-e0b717e3f902
URL:https://events.org/e/Herb-Walker-Celebration-of-Life/NR5SYE9L
BEGIN:VALARM
ACTION:DISPLAY
SUMMARY:Reminder
TRIGGER:-P1D
END:VALARM
END:VEVENT
END:VCALENDAR
