BEGIN:VCALENDAR
METHOD:REQUEST
PRODID:-//events.orgNONSGML ical.net 4.0//EN
VERSION:2.0
BEGIN:VEVENT
DTEND;VALUE=DATE:20260419
DTSTAMP:20260421T082457Z
DTSTART;VALUE=DATE:20260419
LOCATION:Bowery Palace\, New York
ORGANIZER;CN=:mailto:events@events.org
SEQUENCE:0
SUMMARY:Jesse Malin's Silver Manhattan
UID:82d17693-3eba-4604-b8e2-90c848d92e08
URL:https://events.org/e/Jesse-Malins-Silver-Manhattan/GNQ4GK74
BEGIN:VALARM
ACTION:DISPLAY
SUMMARY:Reminder
TRIGGER:-P1D
END:VALARM
END:VEVENT
END:VCALENDAR
