BEGIN:VCALENDAR
METHOD:REQUEST
PRODID:-//events.orgNONSGML ical.net 4.0//EN
VERSION:2.0
BEGIN:VEVENT
DTEND;VALUE=DATE:20260422
DTSTAMP:20260422T091309Z
DTSTART;VALUE=DATE:20260422
LOCATION:Audible's Minetta Lane Theatre\, New York
ORGANIZER;CN=:mailto:events@events.org
SEQUENCE:0
SUMMARY:Sexual Misconduct of the Middle Classes
UID:9ba48cb0-8489-4628-8249-aaa9b06a2647
URL:https://events.org/e/Sexual-Misconduct-of-the-Middle-Classes/6WXKGMQE
BEGIN:VALARM
ACTION:DISPLAY
SUMMARY:Reminder
TRIGGER:-P1D
END:VALARM
END:VEVENT
END:VCALENDAR
