BEGIN:VCALENDAR
METHOD:REQUEST
PRODID:-//events.orgNONSGML ical.net 4.0//EN
VERSION:2.0
BEGIN:VEVENT
DTEND;VALUE=DATE:20260424
DTSTAMP:20260422T092006Z
DTSTART;VALUE=DATE:20260424
LOCATION:Lyceum Theatre\, New York
ORGANIZER;CN=:mailto:events@events.org
SEQUENCE:0
SUMMARY:Oh\, Mary!
UID:254007a8-b2a5-46f9-91e6-e44d21cd90f8
URL:https://events.org/e/Oh-Mary/MCVW327V
BEGIN:VALARM
ACTION:DISPLAY
SUMMARY:Reminder
TRIGGER:-P1D
END:VALARM
END:VEVENT
END:VCALENDAR
