BEGIN:VCALENDAR
METHOD:REQUEST
PRODID:-//events.orgNONSGML ical.net 4.0//EN
VERSION:2.0
BEGIN:VEVENT
DTEND;VALUE=DATE:20260709
DTSTAMP:20260424T092402Z
DTSTART;VALUE=DATE:20260709
LOCATION:Cobb's Comedy Club\, San Francisco
ORGANIZER;CN=:mailto:events@events.org
SEQUENCE:0
SUMMARY:Corey O'Brien: The Red Tour
UID:343066f4-8af7-4b5b-a589-d92cccf0ea71
URL:https://events.org/e/Corey-OBrien-The-Red-Tour/TJ6UT3VW
BEGIN:VALARM
ACTION:DISPLAY
SUMMARY:Reminder
TRIGGER:-P1D
END:VALARM
END:VEVENT
END:VCALENDAR
