BEGIN:VCALENDAR
METHOD:REQUEST
PRODID:-//events.orgNONSGML ical.net 4.0//EN
VERSION:2.0
BEGIN:VEVENT
DTEND;VALUE=DATE:20260612
DTSTAMP:20260421T095426Z
DTSTART;VALUE=DATE:20260612
LOCATION:Scout Bar - Houston\, Houston
ORGANIZER;CN=:mailto:events@events.org
SEQUENCE:0
SUMMARY:Struggle Jennings (18 and up event\, Minors allowed with parent)
UID:1f3c58a7-672a-4899-99d7-60b216439abe
URL:https://events.org/e/Struggle-Jennings-18-and-up-event-Minors-allo/QVB
 MC2YK
BEGIN:VALARM
ACTION:DISPLAY
SUMMARY:Reminder
TRIGGER:-P1D
END:VALARM
END:VEVENT
END:VCALENDAR
