BEGIN:VCALENDAR
METHOD:REQUEST
PRODID:-//events.orgNONSGML ical.net 4.0//EN
VERSION:2.0
BEGIN:VEVENT
DTEND;VALUE=DATE:20260424
DTSTAMP:20260419T153935Z
DTSTART;VALUE=DATE:20260424
LOCATION:The Echo\, Los Angeles
ORGANIZER;CN=:mailto:events@events.org
SEQUENCE:0
SUMMARY:Frankie and the Witch Fingers with Expensive $hit
UID:33c888c7-6251-4af6-b3ae-4310a1896b02
URL:https://events.org/e/Frankie-and-the-Witch-Fingers-with-Expensive-hit/
 D2384F2T
BEGIN:VALARM
ACTION:DISPLAY
SUMMARY:Reminder
TRIGGER:-P1D
END:VALARM
END:VEVENT
END:VCALENDAR
