BEGIN:VCALENDAR
METHOD:REQUEST
PRODID:-//events.orgNONSGML ical.net 4.0//EN
VERSION:2.0
BEGIN:VEVENT
DTEND;VALUE=DATE:20260426
DTSTAMP:20260421T104148Z
DTSTART;VALUE=DATE:20260426
LOCATION:Lookingglass Theatre\, Chicago
ORGANIZER;CN=:mailto:events@events.org
SEQUENCE:0
SUMMARY:White Rooster
UID:bcdb5e10-ed98-43ff-9676-adeca582b139
URL:https://events.org/e/White-Rooster/CMNSK58I
BEGIN:VALARM
ACTION:DISPLAY
SUMMARY:Reminder
TRIGGER:-P1D
END:VALARM
END:VEVENT
END:VCALENDAR
