BEGIN:VCALENDAR
METHOD:REQUEST
PRODID:-//events.orgNONSGML ical.net 4.0//EN
VERSION:2.0
BEGIN:VEVENT
DTEND;VALUE=DATE:20260528
DTSTAMP:20260419T142604Z
DTSTART;VALUE=DATE:20260528
LOCATION:T-Mobile Park\, Seattle
ORGANIZER;CN=:mailto:events@events.org
SEQUENCE:0
SUMMARY:Seattle Mariners Ballpark Tour
UID:4f42b360-23d3-4ca2-92b8-9c875fc574da
URL:https://events.org/e/Seattle-Mariners-Ballpark-Tour/7LOXY6KE
BEGIN:VALARM
ACTION:DISPLAY
SUMMARY:Reminder
TRIGGER:-P1D
END:VALARM
END:VEVENT
END:VCALENDAR
