BEGIN:VCALENDAR
METHOD:REQUEST
PRODID:-//events.orgNONSGML ical.net 4.0//EN
VERSION:2.0
BEGIN:VEVENT
DTEND;VALUE=DATE:20260620
DTSTAMP:20260421T095250Z
DTSTART;VALUE=DATE:20260620
LOCATION:The Observatory North Park\, San Diego
ORGANIZER;CN=:mailto:events@events.org
SEQUENCE:0
SUMMARY:Audrey Hobert: The Staircase To Stardom Tour
UID:7205f8d6-85d6-4db9-8551-4ad3fcf0a70c
URL:https://events.org/e/Audrey-Hobert-The-Staircase-To-Stardom-Tour/DG4WF
 CQ8
BEGIN:VALARM
ACTION:DISPLAY
SUMMARY:Reminder
TRIGGER:-P1D
END:VALARM
END:VEVENT
END:VCALENDAR
