BEGIN:VCALENDAR
METHOD:REQUEST
PRODID:-//events.orgNONSGML ical.net 4.0//EN
VERSION:2.0
BEGIN:VEVENT
DTEND;VALUE=DATE:20260516
DTSTAMP:20260423T133545Z
DTSTART;VALUE=DATE:20260516
LOCATION:Just the Funny\, Miami
ORGANIZER;CN=:mailto:events@events.org
SEQUENCE:0
SUMMARY:The BIG Show Improv Comedy Miami
UID:3f73474a-a661-49dd-826e-49b0c6421b5c
URL:https://events.org/e/The-BIG-Show-Improv-Comedy-Miami/M7SQK8PS
BEGIN:VALARM
ACTION:DISPLAY
SUMMARY:Reminder
TRIGGER:-P1D
END:VALARM
END:VEVENT
END:VCALENDAR
