BEGIN:VCALENDAR
METHOD:REQUEST
PRODID:-//events.orgNONSGML ical.net 4.0//EN
VERSION:2.0
BEGIN:VEVENT
DTEND;VALUE=DATE:20260523
DTSTAMP:20260424T081526Z
DTSTART;VALUE=DATE:20260523
LOCATION:Academy LA\, Los Angeles
ORGANIZER;CN=:mailto:events@events.org
SEQUENCE:0
SUMMARY:Gravagerz: "BEDROOM TO THE WORLD TOUR'
UID:1b08da9f-995e-4c3b-95b4-8072ff166346
URL:https://events.org/e/Gravagerz-BEDROOM-TO-THE-WORLD-TOUR/IA8FGB4J
BEGIN:VALARM
ACTION:DISPLAY
SUMMARY:Reminder
TRIGGER:-P1D
END:VALARM
END:VEVENT
END:VCALENDAR
