BEGIN:VCALENDAR
METHOD:REQUEST
PRODID:-//events.orgNONSGML ical.net 4.0//EN
VERSION:2.0
BEGIN:VEVENT
DTEND;VALUE=DATE:20260620
DTSTAMP:20260421T103946Z
DTSTART;VALUE=DATE:20260620
LOCATION:Fine Line Music Cafe\, Minneapolis
ORGANIZER;CN=:mailto:events@events.org
SEQUENCE:0
SUMMARY:Underscores
UID:63f1f4c1-0dfe-4663-942f-3c841e19ea39
URL:https://events.org/e/Underscores/AVSKHM2D
BEGIN:VALARM
ACTION:DISPLAY
SUMMARY:Reminder
TRIGGER:-P1D
END:VALARM
END:VEVENT
END:VCALENDAR
