BEGIN:VCALENDAR
METHOD:REQUEST
PRODID:-//events.orgNONSGML ical.net 4.0//EN
VERSION:2.0
BEGIN:VEVENT
DTEND;VALUE=DATE:20260922
DTSTAMP:20260422T090646Z
DTSTART;VALUE=DATE:20260922
LOCATION:Citizens Bank Park\, Philadelphia
ORGANIZER;CN=:mailto:events@events.org
SEQUENCE:0
SUMMARY:Philadelphia Phillies vs. Milwaukee Brewers
UID:200c5027-20a1-4410-b39a-7c12d507631e
URL:https://events.org/e/Philadelphia-Phillies-vs-Milwaukee-Brewers/MXIOQC
 XG
BEGIN:VALARM
ACTION:DISPLAY
SUMMARY:Reminder
TRIGGER:-P1D
END:VALARM
END:VEVENT
END:VCALENDAR
