BEGIN:VCALENDAR
METHOD:REQUEST
PRODID:-//events.orgNONSGML ical.net 4.0//EN
VERSION:2.0
BEGIN:VEVENT
DTEND;VALUE=DATE:20260920
DTSTAMP:20260422T090043Z
DTSTART;VALUE=DATE:20260920
LOCATION:Paradise Rock Club presented by Citizens\, Boston
ORGANIZER;CN=:mailto:events@events.org
SEQUENCE:0
SUMMARY:Jane Remover: Live Exhibit
UID:a1bf8f73-0431-4eda-8bcc-be8b60b625b7
URL:https://events.org/e/Jane-Remover-Live-Exhibit/IRAP9IXT
BEGIN:VALARM
ACTION:DISPLAY
SUMMARY:Reminder
TRIGGER:-P1D
END:VALARM
END:VEVENT
END:VCALENDAR
