BEGIN:VCALENDAR
METHOD:REQUEST
PRODID:-//events.orgNONSGML ical.net 4.0//EN
VERSION:2.0
BEGIN:VEVENT
DTEND;VALUE=DATE:20260613
DTSTAMP:20260421T131535Z
DTSTART;VALUE=DATE:20260613
LOCATION:Paramount Theatre\, Denver
ORGANIZER;CN=:mailto:events@events.org
SEQUENCE:0
SUMMARY:Paramount Theatre Club Seating: America
UID:40b8b09d-ee97-44b8-87d7-53abc40a1170
URL:https://events.org/e/Paramount-Theatre-Club-Seating-America/VEAWS5C4
BEGIN:VALARM
ACTION:DISPLAY
SUMMARY:Reminder
TRIGGER:-P1D
END:VALARM
END:VEVENT
END:VCALENDAR
