BEGIN:VCALENDAR
METHOD:REQUEST
PRODID:-//events.orgNONSGML ical.net 4.0//EN
VERSION:2.0
BEGIN:VEVENT
DTEND;VALUE=DATE:20260713
DTSTAMP:20260422T084038Z
DTSTART;VALUE=DATE:20260713
LOCATION:Vinyl\, Atlanta
ORGANIZER;CN=:mailto:events@events.org
SEQUENCE:0
SUMMARY:Elijah Scott
UID:6dd665c3-1fae-415b-8d72-7e90a03148a0
URL:https://events.org/e/Elijah-Scott/WNR7MI29
BEGIN:VALARM
ACTION:DISPLAY
SUMMARY:Reminder
TRIGGER:-P1D
END:VALARM
END:VEVENT
END:VCALENDAR
