BEGIN:VCALENDAR
METHOD:REQUEST
PRODID:-//events.orgNONSGML ical.net 4.0//EN
VERSION:2.0
BEGIN:VEVENT
DTEND;VALUE=DATE:20260802
DTSTAMP:20260424T092747Z
DTSTART;VALUE=DATE:20260802
LOCATION:Walter Studios\, Phoenix
ORGANIZER;CN=:mailto:events@events.org
SEQUENCE:0
SUMMARY:Black Moth Super Rainbow (16 and Over)
UID:89fefab8-58ab-4596-8943-06e13a21e9ab
URL:https://events.org/e/Black-Moth-Super-Rainbow-16-and-Over/S8SJWIWN
BEGIN:VALARM
ACTION:DISPLAY
SUMMARY:Reminder
TRIGGER:-P1D
END:VALARM
END:VEVENT
END:VCALENDAR
