BEGIN:VCALENDAR
METHOD:REQUEST
PRODID:-//events.orgNONSGML ical.net 4.0//EN
VERSION:2.0
BEGIN:VEVENT
DTEND;VALUE=DATE:20260603
DTSTAMP:20260421T095244Z
DTSTART;VALUE=DATE:20260603
LOCATION:Marquis\, Denver
ORGANIZER;CN=:mailto:events@events.org
SEQUENCE:0
SUMMARY:White Denim
UID:fca82e0b-0b58-4267-bddf-5ebe9d5d749c
URL:https://events.org/e/White-Denim/NJF65OOG
BEGIN:VALARM
ACTION:DISPLAY
SUMMARY:Reminder
TRIGGER:-P1D
END:VALARM
END:VEVENT
END:VCALENDAR
