BEGIN:VCALENDAR
METHOD:REQUEST
PRODID:-//events.orgNONSGML ical.net 4.0//EN
VERSION:2.0
BEGIN:VEVENT
DTEND;VALUE=DATE:20260627
DTSTAMP:20260421T144721Z
DTSTART;VALUE=DATE:20260627
LOCATION:Fillmore Auditorium (Denver)\, Denver
ORGANIZER;CN=:mailto:events@events.org
SEQUENCE:0
SUMMARY:Factory 93 Presents: 999999999
UID:436c7482-9674-496e-b2f6-dc9a36a75fe9
URL:https://events.org/e/Factory-93-Presents-999999999/XDSGOCH7
BEGIN:VALARM
ACTION:DISPLAY
SUMMARY:Reminder
TRIGGER:-P1D
END:VALARM
END:VEVENT
END:VCALENDAR
