BEGIN:VCALENDAR
METHOD:REQUEST
PRODID:-//events.orgNONSGML ical.net 4.0//EN
VERSION:2.0
BEGIN:VEVENT
DTEND;VALUE=DATE:20260524
DTSTAMP:20260422T085534Z
DTSTART;VALUE=DATE:20260524
LOCATION:Reggies Music Joint\, Chicago
ORGANIZER;CN=:mailto:events@events.org
SEQUENCE:0
SUMMARY:Johnny Kilroy\, Smooch Wallace\, Jonny Uncth\, D2g\, Point of Real
 ization\,
UID:36753ca8-831d-4a18-8b68-bbf5aadbb5e9
URL:https://events.org/e/Johnny-Kilroy-Smooch-Wallace-Jonny-Uncth-D2g/8YLU
 RR69
BEGIN:VALARM
ACTION:DISPLAY
SUMMARY:Reminder
TRIGGER:-P1D
END:VALARM
END:VEVENT
END:VCALENDAR
