BEGIN:VCALENDAR
METHOD:REQUEST
PRODID:-//events.orgNONSGML ical.net 4.0//EN
VERSION:2.0
BEGIN:VEVENT
DTEND;VALUE=DATE:20260710
DTSTAMP:20260421T104147Z
DTSTART;VALUE=DATE:20260710
LOCATION:Balboa Theatre\, San Diego
ORGANIZER;CN=:mailto:events@events.org
SEQUENCE:0
SUMMARY:San Diego Opera Presents: Fellow Travelers
UID:41d8a5d8-43f3-40f4-abc2-60e7e9297533
URL:https://events.org/e/San-Diego-Opera-Presents-Fellow-Travelers/OCCBDFRJ
BEGIN:VALARM
ACTION:DISPLAY
SUMMARY:Reminder
TRIGGER:-P1D
END:VALARM
END:VEVENT
END:VCALENDAR
