BEGIN:VCALENDAR
METHOD:REQUEST
PRODID:-//events.orgNONSGML ical.net 4.0//EN
VERSION:2.0
BEGIN:VEVENT
DTEND;VALUE=DATE:20260519
DTSTAMP:20260423T133342Z
DTSTART;VALUE=DATE:20260519
LOCATION:Royale Boston\, Boston
ORGANIZER;CN=:mailto:events@events.org
SEQUENCE:0
SUMMARY:Thornhill w/ 156 Silence
UID:1e80f2f9-8d15-47a9-a028-a13161336d24
URL:https://events.org/e/Thornhill-w-156-Silence/A8DYM9WI
BEGIN:VALARM
ACTION:DISPLAY
SUMMARY:Reminder
TRIGGER:-P1D
END:VALARM
END:VEVENT
END:VCALENDAR
