BEGIN:VCALENDAR
METHOD:REQUEST
PRODID:-//events.orgNONSGML ical.net 4.0//EN
VERSION:2.0
BEGIN:VEVENT
DTEND;VALUE=DATE:20260607
DTSTAMP:20260424T091923Z
DTSTART;VALUE=DATE:20260607
LOCATION:Almeda Mall\, Houston
ORGANIZER;CN=:mailto:events@events.org
SEQUENCE:0
SUMMARY:Flip Circus
UID:9411307f-0205-4e0c-b077-98fb7ccae670
URL:https://events.org/e/Flip-Circus/RKQRT9VW
BEGIN:VALARM
ACTION:DISPLAY
SUMMARY:Reminder
TRIGGER:-P1D
END:VALARM
END:VEVENT
END:VCALENDAR
