BEGIN:VCALENDAR
METHOD:REQUEST
PRODID:-//events.orgNONSGML ical.net 4.0//EN
VERSION:2.0
BEGIN:VEVENT
DTEND;VALUE=DATE:20260623
DTSTAMP:20260421T103946Z
DTSTART;VALUE=DATE:20260623
LOCATION:Marquis\, Denver
ORGANIZER;CN=:mailto:events@events.org
SEQUENCE:0
SUMMARY:Monolord + Mizmor
UID:5392c1da-fd94-4bd2-bced-eea51963baf3
URL:https://events.org/e/Monolord-Mizmor/2E3VFPH5
BEGIN:VALARM
ACTION:DISPLAY
SUMMARY:Reminder
TRIGGER:-P1D
END:VALARM
END:VEVENT
END:VCALENDAR
