BEGIN:VCALENDAR
METHOD:REQUEST
PRODID:-//events.orgNONSGML ical.net 4.0//EN
VERSION:2.0
BEGIN:VEVENT
DTEND;VALUE=DATE:20260520
DTSTAMP:20260422T090953Z
DTSTART;VALUE=DATE:20260520
LOCATION:Chicago Architecture Center - First Lady\, Chicago
ORGANIZER;CN=:mailto:events@events.org
SEQUENCE:0
SUMMARY:Chicago Architecture Center River Cruise Aboard First Lady
UID:b182c700-68e3-45c9-8953-1544c9dd3fcd
URL:https://events.org/e/Chicago-Architecture-Center-River-Cruise-Aboa/IYG
 6ESLA
BEGIN:VALARM
ACTION:DISPLAY
SUMMARY:Reminder
TRIGGER:-P1D
END:VALARM
END:VEVENT
END:VCALENDAR
