BEGIN:VCALENDAR
METHOD:REQUEST
PRODID:-//events.orgNONSGML ical.net 4.0//EN
VERSION:2.0
BEGIN:VEVENT
DTEND;VALUE=DATE:20260626
DTSTAMP:20260422T090310Z
DTSTART;VALUE=DATE:20260626
LOCATION:Baba Yaga\, Seattle
ORGANIZER;CN=:mailto:events@events.org
SEQUENCE:0
SUMMARY:Panic Shack
UID:de40b89b-3a72-49c6-9694-5c0b0b312207
URL:https://events.org/e/Panic-Shack/AQY56Q7F
BEGIN:VALARM
ACTION:DISPLAY
SUMMARY:Reminder
TRIGGER:-P1D
END:VALARM
END:VEVENT
END:VCALENDAR
