BEGIN:VCALENDAR
METHOD:REQUEST
PRODID:-//events.orgNONSGML ical.net 4.0//EN
VERSION:2.0
BEGIN:VEVENT
DTEND;VALUE=DATE:20260710
DTSTAMP:20260422T091309Z
DTSTART;VALUE=DATE:20260710
LOCATION:The Masquerade - Hell\, Atlanta
ORGANIZER;CN=:mailto:events@events.org
SEQUENCE:0
SUMMARY:KPOP CLUB NIGHT WITH DJ CHEN | 18+
UID:361e0a88-2495-49c6-a906-8acd9b0b377b
URL:https://events.org/e/KPOP-CLUB-NIGHT-WITH-DJ-CHEN-18/QDWBU9L4
BEGIN:VALARM
ACTION:DISPLAY
SUMMARY:Reminder
TRIGGER:-P1D
END:VALARM
END:VEVENT
END:VCALENDAR
