BEGIN:VCALENDAR
METHOD:REQUEST
PRODID:-//events.orgNONSGML ical.net 4.0//EN
VERSION:2.0
BEGIN:VEVENT
DTEND;VALUE=DATE:20261012
DTSTAMP:20260419T142515Z
DTSTART;VALUE=DATE:20261012
LOCATION:Orpheum Theatre\, Minneapolis
ORGANIZER;CN=:mailto:events@events.org
SEQUENCE:0
SUMMARY:Undertale - The Determination Symphony World Tour
UID:deb9bc8b-5ce3-42b8-b73f-38a2f8e964b3
URL:https://events.org/e/Undertale---The-Determination-Symphony-World-Tour
 /R5RNAGPM
BEGIN:VALARM
ACTION:DISPLAY
SUMMARY:Reminder
TRIGGER:-P1D
END:VALARM
END:VEVENT
END:VCALENDAR
