BEGIN:VCALENDAR
METHOD:REQUEST
PRODID:-//events.orgNONSGML ical.net 4.0//EN
VERSION:2.0
BEGIN:VEVENT
DTEND;VALUE=DATE:20260406
DTSTAMP:20260422T091637Z
DTSTART;VALUE=DATE:20260406
LOCATION:The Crocodile\, Seattle
ORGANIZER;CN=:mailto:events@events.org
SEQUENCE:0
SUMMARY:KXLLSWXTCH: EYESORE Tour w/ Warlord Colossus\, Druidess
UID:2aa8aff1-183e-4056-855f-109fa5cbc3dc
URL:https://events.org/e/KXLLSWXTCH-EYESORE-Tour-w-Warlord-Colossus-Dr/A5J
 CXXRB
BEGIN:VALARM
ACTION:DISPLAY
SUMMARY:Reminder
TRIGGER:-P1D
END:VALARM
END:VEVENT
END:VCALENDAR
