BEGIN:VCALENDAR
METHOD:REQUEST
PRODID:-//events.orgNONSGML ical.net 4.0//EN
VERSION:2.0
BEGIN:VEVENT
DTEND;VALUE=DATE:20260526
DTSTAMP:20260419T142751Z
DTSTART;VALUE=DATE:20260526
LOCATION:Fox Theatre - Atlanta\, Atlanta
ORGANIZER;CN=:mailto:events@events.org
SEQUENCE:0
SUMMARY:Beauty And The Beast (Touring)
UID:390717e4-dce0-4cdf-822f-9527234c2356
URL:https://events.org/e/Beauty-And-The-Beast-Touring/H6RHNS7V
BEGIN:VALARM
ACTION:DISPLAY
SUMMARY:Reminder
TRIGGER:-P1D
END:VALARM
END:VEVENT
END:VCALENDAR
