BEGIN:VCALENDAR
METHOD:REQUEST
PRODID:-//events.orgNONSGML ical.net 4.0//EN
VERSION:2.0
BEGIN:VEVENT
DTEND;VALUE=DATE:20260519
DTSTAMP:20260425T162350Z
DTSTART;VALUE=DATE:20260519
LOCATION:Walnut Street Theatre\, Philadelphia
ORGANIZER;CN=:mailto:events@events.org
SEQUENCE:0
SUMMARY:Walnut Street Theatre's 1776 The Musical
UID:b29a972e-ea1f-4d50-ac88-6cbc966a16db
URL:https://events.org/e/Walnut-Street-Theatres-1776-The-Musical/X5WHE6UX
BEGIN:VALARM
ACTION:DISPLAY
SUMMARY:Reminder
TRIGGER:-P1D
END:VALARM
END:VEVENT
END:VCALENDAR
