BEGIN:VCALENDAR
METHOD:REQUEST
PRODID:-//events.orgNONSGML ical.net 4.0//EN
VERSION:2.0
BEGIN:VEVENT
DTEND;VALUE=DATE:20260610
DTSTAMP:20260424T092607Z
DTSTART;VALUE=DATE:20260610
LOCATION:Improv Comedy Club- DC\, Washington
ORGANIZER;CN=:mailto:events@events.org
SEQUENCE:0
SUMMARY:Yvette Segan
UID:d0c3f41c-7a7b-40a8-97d6-5c43ca575802
URL:https://events.org/e/Yvette-Segan/3R7OC7JW
BEGIN:VALARM
ACTION:DISPLAY
SUMMARY:Reminder
TRIGGER:-P1D
END:VALARM
END:VEVENT
END:VCALENDAR
