BEGIN:VCALENDAR
METHOD:REQUEST
PRODID:-//events.orgNONSGML ical.net 4.0//EN
VERSION:2.0
BEGIN:VEVENT
DTEND;VALUE=DATE:20250424
DTSTAMP:20260419T130132Z
DTSTART;VALUE=DATE:20250424
LOCATION:Zilkha Hall at the Hobby Center\, Houston
ORGANIZER;CN=:mailto:events@events.org
SEQUENCE:0
SUMMARY:Forbidden Broadway: Merrily We Stole A Song
UID:01b11760-0404-4771-aea3-07abdea43e9b
URL:https://events.org/e/Forbidden-Broadway-Merrily-We-Stole-A-Song/2INEOD
 A9
BEGIN:VALARM
ACTION:DISPLAY
SUMMARY:Reminder
TRIGGER:-P1D
END:VALARM
END:VEVENT
END:VCALENDAR
