BEGIN:VCALENDAR
METHOD:REQUEST
PRODID:-//events.orgNONSGML ical.net 4.0//EN
VERSION:2.0
BEGIN:VEVENT
DTEND;VALUE=DATE:20260620
DTSTAMP:20260421T104031Z
DTSTART;VALUE=DATE:20260620
LOCATION:Voodoo Room at the House of Blues San Diego\, San Diego
ORGANIZER;CN=:mailto:events@events.org
SEQUENCE:0
SUMMARY:Wallie The Sensei
UID:167d1b91-8326-4908-8ebb-a9562f2f198c
URL:https://events.org/e/Wallie-The-Sensei/CKC45MBV
BEGIN:VALARM
ACTION:DISPLAY
SUMMARY:Reminder
TRIGGER:-P1D
END:VALARM
END:VEVENT
END:VCALENDAR
