BEGIN:VCALENDAR
METHOD:REQUEST
PRODID:-//events.orgNONSGML ical.net 4.0//EN
VERSION:2.0
BEGIN:VEVENT
DTEND;VALUE=DATE:20260528
DTSTAMP:20260425T170446Z
DTSTART;VALUE=DATE:20260528
LOCATION:Stages - Lester and Sue Smith Stage\, Houston
ORGANIZER;CN=:mailto:events@events.org
SEQUENCE:0
SUMMARY:That Drive Thru Monterey
UID:55b6720a-85f8-40bc-8cf5-39b46d19b2aa
URL:https://events.org/e/That-Drive-Thru-Monterey/WWO9IAT6
BEGIN:VALARM
ACTION:DISPLAY
SUMMARY:Reminder
TRIGGER:-P1D
END:VALARM
END:VEVENT
END:VCALENDAR
