BEGIN:VCALENDAR
METHOD:REQUEST
PRODID:-//events.orgNONSGML ical.net 4.0//EN
VERSION:2.0
BEGIN:VEVENT
DTEND;VALUE=DATE:20260515
DTSTAMP:20260423T154456Z
DTSTART;VALUE=DATE:20260515
LOCATION:Forrest Theatre\, Philadelphia
ORGANIZER;CN=:mailto:events@events.org
SEQUENCE:0
SUMMARY:Chicago the Musical (Touring)
UID:a4855a4c-f9aa-4343-b46c-1dd5ecfcc7b0
URL:https://events.org/e/Chicago-the-Musical-Touring/RCOKAJJ3
BEGIN:VALARM
ACTION:DISPLAY
SUMMARY:Reminder
TRIGGER:-P1D
END:VALARM
END:VEVENT
END:VCALENDAR
