BEGIN:VCALENDAR
METHOD:REQUEST
PRODID:-//events.orgNONSGML ical.net 4.0//EN
VERSION:2.0
BEGIN:VEVENT
DTEND;VALUE=DATE:20260614
DTSTAMP:20260423T133643Z
DTSTART;VALUE=DATE:20260614
LOCATION:Orpheum Theatre-San Francisco\, San Francisco
ORGANIZER;CN=:mailto:events@events.org
SEQUENCE:0
SUMMARY:Phantom Of The Opera (Touring) - Recommended for ages 8+. No child
 ren under 5 allowed
UID:12da5b69-d26c-466f-93d5-df4dfad019a8
URL:https://events.org/e/Phantom-Of-The-Opera-Touring---Recommended-fo/X98
 DF9FG
BEGIN:VALARM
ACTION:DISPLAY
SUMMARY:Reminder
TRIGGER:-P1D
END:VALARM
END:VEVENT
END:VCALENDAR
